BEGIN:VCALENDAR
VERSION:2.0
PRODID:-//Terrace Peaks Gymnastics Club - ECPv6.15.20//NONSGML v1.0//EN
CALSCALE:GREGORIAN
METHOD:PUBLISH
X-WR-CALNAME:Terrace Peaks Gymnastics Club
X-ORIGINAL-URL:https://terracepeaks.ca/wp
X-WR-CALDESC:Events for Terrace Peaks Gymnastics Club
REFRESH-INTERVAL;VALUE=DURATION:PT1H
X-Robots-Tag:noindex
X-PUBLISHED-TTL:PT1H
BEGIN:VTIMEZONE
TZID:America/Vancouver
BEGIN:DAYLIGHT
TZOFFSETFROM:-0800
TZOFFSETTO:-0700
TZNAME:PDT
DTSTART:20240310T100000
END:DAYLIGHT
BEGIN:STANDARD
TZOFFSETFROM:-0700
TZOFFSETTO:-0800
TZNAME:PST
DTSTART:20241103T090000
END:STANDARD
BEGIN:DAYLIGHT
TZOFFSETFROM:-0800
TZOFFSETTO:-0700
TZNAME:PDT
DTSTART:20250309T100000
END:DAYLIGHT
BEGIN:STANDARD
TZOFFSETFROM:-0700
TZOFFSETTO:-0800
TZNAME:PST
DTSTART:20251102T090000
END:STANDARD
BEGIN:DAYLIGHT
TZOFFSETFROM:-0800
TZOFFSETTO:-0700
TZNAME:PDT
DTSTART:20260308T100000
END:DAYLIGHT
BEGIN:STANDARD
TZOFFSETFROM:-0700
TZOFFSETTO:-0800
TZNAME:PST
DTSTART:20261101T090000
END:STANDARD
END:VTIMEZONE
BEGIN:VEVENT
DTSTART;VALUE=DATE:20250617
DTEND;VALUE=DATE:20250622
DTSTAMP:20260424T021924
CREATED:20250611T193734Z
LAST-MODIFIED:20250611T193734Z
UID:5959-1750118400-1750550399@terracepeaks.ca
SUMMARY:BEACH PARTY WEEK!
DESCRIPTION:Wear your bathing suit and bring a towel for some indoor beach-themed fun for your last class! We would also like to welcome parents and guardians onto the floor for the last 5-10 minutes of each class\, during which your child will have the opportunity to show you what they have learned this year and receive their progress report and certificate. \n 
URL:https://terracepeaks.ca/wp/calendar/beach-party-week/
CATEGORIES:Program Events
END:VEVENT
BEGIN:VEVENT
DTSTART;TZID=America/Vancouver:20250618T180000
DTEND;TZID=America/Vancouver:20250618T193000
DTSTAMP:20260424T021924
CREATED:20250520T224521Z
LAST-MODIFIED:20250520T224550Z
UID:5925-1750269600-1750275000@terracepeaks.ca
SUMMARY:Invitational Team Tryouts
DESCRIPTION:An opportunity for new and current athletes born in 2020-2010 to attend a group assessment for program placement. Athletes will be led through a warm-up\, followed by strength and physical ability activities to determine the best program for each individual. Please bring a water bottle and wear athletic clothes with long hair pulled back. \nhttps://terracepeaks.uplifterinc.com/registration/product-detail/InvitationalTry-OutJun18
URL:https://terracepeaks.ca/wp/calendar/invitational-team-tryouts/
CATEGORIES:Club Events
END:VEVENT
END:VCALENDAR