BEGIN:VCALENDAR
VERSION:2.0
PRODID:-//Terrace Peaks Gymnastics Club - ECPv6.15.20//NONSGML v1.0//EN
CALSCALE:GREGORIAN
METHOD:PUBLISH
X-ORIGINAL-URL:https://terracepeaks.ca/wp
X-WR-CALDESC:Events for Terrace Peaks Gymnastics Club
REFRESH-INTERVAL;VALUE=DURATION:PT1H
X-Robots-Tag:noindex
X-PUBLISHED-TTL:PT1H
BEGIN:VTIMEZONE
TZID:America/Vancouver
BEGIN:DAYLIGHT
TZOFFSETFROM:-0800
TZOFFSETTO:-0700
TZNAME:PDT
DTSTART:20240310T100000
END:DAYLIGHT
BEGIN:STANDARD
TZOFFSETFROM:-0700
TZOFFSETTO:-0800
TZNAME:PST
DTSTART:20241103T090000
END:STANDARD
BEGIN:DAYLIGHT
TZOFFSETFROM:-0800
TZOFFSETTO:-0700
TZNAME:PDT
DTSTART:20250309T100000
END:DAYLIGHT
BEGIN:STANDARD
TZOFFSETFROM:-0700
TZOFFSETTO:-0800
TZNAME:PST
DTSTART:20251102T090000
END:STANDARD
BEGIN:DAYLIGHT
TZOFFSETFROM:-0800
TZOFFSETTO:-0700
TZNAME:PDT
DTSTART:20260308T100000
END:DAYLIGHT
BEGIN:STANDARD
TZOFFSETFROM:-0700
TZOFFSETTO:-0800
TZNAME:PST
DTSTART:20261101T090000
END:STANDARD
END:VTIMEZONE
BEGIN:VEVENT
DTSTART;VALUE=DATE:20251215
DTEND;VALUE=DATE:20251221
DTSTAMP:20260423T161956
CREATED:20251202T191218Z
LAST-MODIFIED:20251218T185143Z
UID:6447-1765756800-1766275199@terracepeaks.ca
SUMMARY:Parent Viewing Day & Last Week of Fall 2025
DESCRIPTION:We would like to welcome parents and guardians onto the floor to help celebrate the end of our Fall 2025 session with our rec athletes! During the last 5-10 minutes of your child’s last class (December 15-20)\, please join us for an opportunity to see what your child has learned this session. \n 
URL:https://terracepeaks.ca/wp/calendar/parent-viewing-day-last-week-of-fall-2025/
CATEGORIES:Program Events
END:VEVENT
END:VCALENDAR