BEGIN:VCALENDAR
VERSION:2.0
PRODID:-//Terrace Peaks Gymnastics Club - ECPv6.15.20//NONSGML v1.0//EN
CALSCALE:GREGORIAN
METHOD:PUBLISH
X-ORIGINAL-URL:https://terracepeaks.ca/wp
X-WR-CALDESC:Events for Terrace Peaks Gymnastics Club
REFRESH-INTERVAL;VALUE=DURATION:PT1H
X-Robots-Tag:noindex
X-PUBLISHED-TTL:PT1H
BEGIN:VTIMEZONE
TZID:America/Vancouver
BEGIN:DAYLIGHT
TZOFFSETFROM:-0800
TZOFFSETTO:-0700
TZNAME:PDT
DTSTART:20250309T100000
END:DAYLIGHT
BEGIN:STANDARD
TZOFFSETFROM:-0700
TZOFFSETTO:-0800
TZNAME:PST
DTSTART:20251102T090000
END:STANDARD
BEGIN:DAYLIGHT
TZOFFSETFROM:-0800
TZOFFSETTO:-0700
TZNAME:PDT
DTSTART:20260308T100000
END:DAYLIGHT
BEGIN:STANDARD
TZOFFSETFROM:-0700
TZOFFSETTO:-0800
TZNAME:PST
DTSTART:20261101T090000
END:STANDARD
BEGIN:DAYLIGHT
TZOFFSETFROM:-0800
TZOFFSETTO:-0700
TZNAME:PDT
DTSTART:20270314T100000
END:DAYLIGHT
BEGIN:STANDARD
TZOFFSETFROM:-0700
TZOFFSETTO:-0800
TZNAME:PST
DTSTART:20271107T090000
END:STANDARD
END:VTIMEZONE
BEGIN:VEVENT
DTSTART;VALUE=DATE:20260316
DTEND;VALUE=DATE:20260326
DTSTAMP:20260423T110812
CREATED:20260227T195823Z
LAST-MODIFIED:20260227T195823Z
UID:6731-1773619200-1774483199@terracepeaks.ca
SUMMARY:Spring Break Camps 2026
DESCRIPTION:Join us in the gym for some fun at our Spring Break camps!
URL:https://terracepeaks.ca/wp/calendar/spring-break-camps-2026/
CATEGORIES:Club Events
END:VEVENT
BEGIN:VEVENT
DTSTART;TZID=America/Vancouver:20260319T170000
DTEND;TZID=America/Vancouver:20260319T230000
DTSTAMP:20260423T110812
CREATED:20260303T205025Z
LAST-MODIFIED:20260303T205025Z
UID:6769-1773939600-1773961200@terracepeaks.ca
SUMMARY:SCS Film Festival - Bouldering Wall Fundraiser
DESCRIPTION:
URL:https://terracepeaks.ca/wp/calendar/scs-film-festival-bouldering-wall-fundraiser/
END:VEVENT
END:VCALENDAR