BEGIN:VCALENDAR
VERSION:2.0
PRODID:-//Terrace Peaks Gymnastics Club - ECPv6.15.20//NONSGML v1.0//EN
CALSCALE:GREGORIAN
METHOD:PUBLISH
X-ORIGINAL-URL:https://terracepeaks.ca/wp
X-WR-CALDESC:Events for Terrace Peaks Gymnastics Club
REFRESH-INTERVAL;VALUE=DURATION:PT1H
X-Robots-Tag:noindex
X-PUBLISHED-TTL:PT1H
BEGIN:VTIMEZONE
TZID:America/Vancouver
BEGIN:DAYLIGHT
TZOFFSETFROM:-0800
TZOFFSETTO:-0700
TZNAME:PDT
DTSTART:20250309T100000
END:DAYLIGHT
BEGIN:STANDARD
TZOFFSETFROM:-0700
TZOFFSETTO:-0800
TZNAME:PST
DTSTART:20251102T090000
END:STANDARD
BEGIN:DAYLIGHT
TZOFFSETFROM:-0800
TZOFFSETTO:-0700
TZNAME:PDT
DTSTART:20260308T100000
END:DAYLIGHT
BEGIN:STANDARD
TZOFFSETFROM:-0700
TZOFFSETTO:-0800
TZNAME:PST
DTSTART:20261101T090000
END:STANDARD
BEGIN:DAYLIGHT
TZOFFSETFROM:-0800
TZOFFSETTO:-0700
TZNAME:PDT
DTSTART:20270314T100000
END:DAYLIGHT
BEGIN:STANDARD
TZOFFSETFROM:-0700
TZOFFSETTO:-0800
TZNAME:PST
DTSTART:20271107T090000
END:STANDARD
END:VTIMEZONE
BEGIN:VEVENT
DTSTART;TZID=America/Vancouver:20260301T110000
DTEND;TZID=America/Vancouver:20260301T130000
DTSTAMP:20260423T122945
CREATED:20260217T223352Z
LAST-MODIFIED:20260217T223352Z
UID:6686-1772362800-1772370000@terracepeaks.ca
SUMMARY:Open House
DESCRIPTION:
URL:https://terracepeaks.ca/wp/calendar/open-house/
CATEGORIES:Club Events
END:VEVENT
BEGIN:VEVENT
DTSTART;TZID=America/Vancouver:20260306T080000
DTEND;TZID=America/Vancouver:20260306T080000
DTSTAMP:20260423T122945
CREATED:20260203T191730Z
LAST-MODIFIED:20260203T191730Z
UID:6637-1772784000-1772784000@terracepeaks.ca
SUMMARY:Purdy's Easter Order Deadline
DESCRIPTION:Get your Purdy’s Easter order in before the fundraising campaign closes \nhttps://terracepeaks.ca/wp/wp-content/uploads/2026/02/Purdys-Campaign-Info-1.pdf \n 
URL:https://terracepeaks.ca/wp/calendar/purdys-easter-order-deadline/
CATEGORIES:Club Events
END:VEVENT
BEGIN:VEVENT
DTSTART;VALUE=DATE:20260307
DTEND;VALUE=DATE:20260308
DTSTAMP:20260423T122945
CREATED:20260227T200934Z
LAST-MODIFIED:20260227T200934Z
UID:6752-1772841600-1772927999@terracepeaks.ca
SUMMARY:Over the Rainbow Invitational
DESCRIPTION:Our Invitational Program athletes will be headed to Prince Rupert for another gymnastics meet. \n 
URL:https://terracepeaks.ca/wp/calendar/over-the-rainbow-invitational/
CATEGORIES:Club Events
END:VEVENT
BEGIN:VEVENT
DTSTART;VALUE=DATE:20260313
DTEND;VALUE=DATE:20260314
DTSTAMP:20260423T122945
CREATED:20260217T225405Z
LAST-MODIFIED:20260217T225431Z
UID:6689-1773360000-1773446399@terracepeaks.ca
SUMMARY:Win Free Gymnastics Classes
DESCRIPTION:Help Terrace Peaks raise funds by selling the last 60 cases of World’s Finest Chocolates! Each case contains either 60 chocolate bars ($5 for 3 bars) or 20 boxes of chocolate-covered almonds ($5 per box). Cases are $100 each. For every case you sell\, you will be entered into a draw for a $100 credit toward gymnastics programs! The draw will take place\nMarch 13\, 2026. Please see the office to purchase your case. \nC
URL:https://terracepeaks.ca/wp/calendar/winn-free-gymnastics-classes/
CATEGORIES:Club Events
END:VEVENT
BEGIN:VEVENT
DTSTART;VALUE=DATE:20260316
DTEND;VALUE=DATE:20260326
DTSTAMP:20260423T122945
CREATED:20260227T195823Z
LAST-MODIFIED:20260227T195823Z
UID:6731-1773619200-1774483199@terracepeaks.ca
SUMMARY:Spring Break Camps 2026
DESCRIPTION:Join us in the gym for some fun at our Spring Break camps!
URL:https://terracepeaks.ca/wp/calendar/spring-break-camps-2026/
CATEGORIES:Club Events
END:VEVENT
END:VCALENDAR