BEGIN:VCALENDAR
VERSION:2.0
PRODID:-//Terrace Peaks Gymnastics Club - ECPv6.15.20//NONSGML v1.0//EN
CALSCALE:GREGORIAN
METHOD:PUBLISH
X-WR-CALNAME:Terrace Peaks Gymnastics Club
X-ORIGINAL-URL:https://terracepeaks.ca/wp
X-WR-CALDESC:Events for Terrace Peaks Gymnastics Club
REFRESH-INTERVAL;VALUE=DURATION:PT1H
X-Robots-Tag:noindex
X-PUBLISHED-TTL:PT1H
BEGIN:VTIMEZONE
TZID:America/Vancouver
BEGIN:DAYLIGHT
TZOFFSETFROM:-0800
TZOFFSETTO:-0700
TZNAME:PDT
DTSTART:20240310T100000
END:DAYLIGHT
BEGIN:STANDARD
TZOFFSETFROM:-0700
TZOFFSETTO:-0800
TZNAME:PST
DTSTART:20241103T090000
END:STANDARD
BEGIN:DAYLIGHT
TZOFFSETFROM:-0800
TZOFFSETTO:-0700
TZNAME:PDT
DTSTART:20250309T100000
END:DAYLIGHT
BEGIN:STANDARD
TZOFFSETFROM:-0700
TZOFFSETTO:-0800
TZNAME:PST
DTSTART:20251102T090000
END:STANDARD
BEGIN:DAYLIGHT
TZOFFSETFROM:-0800
TZOFFSETTO:-0700
TZNAME:PDT
DTSTART:20260308T100000
END:DAYLIGHT
BEGIN:STANDARD
TZOFFSETFROM:-0700
TZOFFSETTO:-0800
TZNAME:PST
DTSTART:20261101T090000
END:STANDARD
END:VTIMEZONE
BEGIN:VEVENT
DTSTART;TZID=America/Vancouver:20251026T100000
DTEND;TZID=America/Vancouver:20251026T150000
DTSTAMP:20260423T210235
CREATED:20251003T184724Z
LAST-MODIFIED:20251218T185201Z
UID:6346-1761472800-1761490800@terracepeaks.ca
SUMMARY:Annual Halloween Party
DESCRIPTION:Join us in the gym for some fun at our Annual Halloween Party \n10:00 am – 12:00 pm for kids 8 & under \n1:00 pm – 3:00 pm for kids 6 & up \nAnnual Halloween Party
URL:https://terracepeaks.ca/wp/calendar/annual-halloween-party/
CATEGORIES:Club Events
END:VEVENT
END:VCALENDAR