BEGIN:VCALENDAR
VERSION:2.0
PRODID:-//Terrace Peaks Gymnastics Club - ECPv6.15.20//NONSGML v1.0//EN
CALSCALE:GREGORIAN
METHOD:PUBLISH
X-WR-CALNAME:Terrace Peaks Gymnastics Club
X-ORIGINAL-URL:https://terracepeaks.ca/wp
X-WR-CALDESC:Events for Terrace Peaks Gymnastics Club
REFRESH-INTERVAL;VALUE=DURATION:PT1H
X-Robots-Tag:noindex
X-PUBLISHED-TTL:PT1H
BEGIN:VTIMEZONE
TZID:America/Vancouver
BEGIN:DAYLIGHT
TZOFFSETFROM:-0800
TZOFFSETTO:-0700
TZNAME:PDT
DTSTART:20240310T100000
END:DAYLIGHT
BEGIN:STANDARD
TZOFFSETFROM:-0700
TZOFFSETTO:-0800
TZNAME:PST
DTSTART:20241103T090000
END:STANDARD
BEGIN:DAYLIGHT
TZOFFSETFROM:-0800
TZOFFSETTO:-0700
TZNAME:PDT
DTSTART:20250309T100000
END:DAYLIGHT
BEGIN:STANDARD
TZOFFSETFROM:-0700
TZOFFSETTO:-0800
TZNAME:PST
DTSTART:20251102T090000
END:STANDARD
BEGIN:DAYLIGHT
TZOFFSETFROM:-0800
TZOFFSETTO:-0700
TZNAME:PDT
DTSTART:20260308T100000
END:DAYLIGHT
BEGIN:STANDARD
TZOFFSETFROM:-0700
TZOFFSETTO:-0800
TZNAME:PST
DTSTART:20261101T090000
END:STANDARD
BEGIN:DAYLIGHT
TZOFFSETFROM:-0800
TZOFFSETTO:-0700
TZNAME:PDT
DTSTART:20270314T100000
END:DAYLIGHT
BEGIN:STANDARD
TZOFFSETFROM:-0700
TZOFFSETTO:-0800
TZNAME:PST
DTSTART:20271107T090000
END:STANDARD
END:VTIMEZONE
BEGIN:VEVENT
DTSTART;VALUE=DATE:20260403
DTEND;VALUE=DATE:20260407
DTSTAMP:20260423T175240
CREATED:20251218T191715Z
LAST-MODIFIED:20251218T191715Z
UID:6561-1775174400-1775519999@terracepeaks.ca
SUMMARY:Easter Weekend - Gym Closed
DESCRIPTION:The office is closed\, and no programs are running.
URL:https://terracepeaks.ca/wp/calendar/easter-weekend-gym-closed-2/
CATEGORIES:Gym Closures
END:VEVENT
BEGIN:VEVENT
DTSTART;VALUE=DATE:20260216
DTEND;VALUE=DATE:20260217
DTSTAMP:20260423T175240
CREATED:20251218T191226Z
LAST-MODIFIED:20251218T191234Z
UID:6555-1771200000-1771286399@terracepeaks.ca
SUMMARY:Family Day - Gym Closed
DESCRIPTION:The office is closed\, and no programs are running.
URL:https://terracepeaks.ca/wp/calendar/family-day-gym-closed-2/
CATEGORIES:Gym Closures
END:VEVENT
BEGIN:VEVENT
DTSTART;VALUE=DATE:20260131
DTEND;VALUE=DATE:20260201
DTSTAMP:20260423T175240
CREATED:20251218T190846Z
LAST-MODIFIED:20251218T190846Z
UID:6546-1769817600-1769903999@terracepeaks.ca
SUMMARY:Terrace Peaks Annual Invitational
DESCRIPTION:Terrace Peaks will be hosting our Annual Invitational competition. Come out and support our athletes and the athletes from clubs in our zone. \nThere are no programs scheduled today! \nTerrace Peaks Annual Invitational 2026
URL:https://terracepeaks.ca/wp/calendar/terrace-peaks-annual-invitational/
CATEGORIES:Club Events,Gym Closures
END:VEVENT
BEGIN:VEVENT
DTSTART;TZID=America/Vancouver:20260130T150000
DTEND;TZID=America/Vancouver:20260130T210000
DTSTAMP:20260423T175240
CREATED:20251218T190540Z
LAST-MODIFIED:20251218T190540Z
UID:6544-1769785200-1769806800@terracepeaks.ca
SUMMARY:Terrace Peaks Annual Invitational Set-Up
DESCRIPTION:No programs are scheduled after 3 pm as we set up the gym and community center for our Annual Invitational.
URL:https://terracepeaks.ca/wp/calendar/terrace-peaks-annual-invitational-set-up/
CATEGORIES:Gym Closures
END:VEVENT
BEGIN:VEVENT
DTSTART;TZID=America/Vancouver:20260110T120000
DTEND;TZID=America/Vancouver:20260110T170000
DTSTAMP:20260423T175240
CREATED:20251218T190335Z
LAST-MODIFIED:20260105T231405Z
UID:6542-1768046400-1768064400@terracepeaks.ca
SUMMARY:BC Winter Games Trials
DESCRIPTION:Come out and watch our Zone 7 athletes prepare for the BC Winter Games. Athletes will compete starting at 2:30 pm. \nThere will be no programs running after 12:00 pm on January 10\, 2026.
URL:https://terracepeaks.ca/wp/calendar/bc-winter-games-trials/
CATEGORIES:Club Events,Gym Closures
END:VEVENT
BEGIN:VEVENT
DTSTART;VALUE=DATE:20260101
DTEND;VALUE=DATE:20260102
DTSTAMP:20260423T175240
CREATED:20251218T185438Z
LAST-MODIFIED:20251218T191117Z
UID:6536-1767225600-1767311999@terracepeaks.ca
SUMMARY:New Year's Day - Gym Closed
DESCRIPTION:The office is closed\, and no programs are running.
URL:https://terracepeaks.ca/wp/calendar/new-years-day/
CATEGORIES:Gym Closures
END:VEVENT
BEGIN:VEVENT
DTSTART;VALUE=DATE:20251231
DTEND;VALUE=DATE:20260101
DTSTAMP:20260423T175240
CREATED:20251218T185414Z
LAST-MODIFIED:20251218T191130Z
UID:6534-1767139200-1767225599@terracepeaks.ca
SUMMARY:New Year's Eve - Gym Closed
DESCRIPTION:The office is closed\, and no programs are running.
URL:https://terracepeaks.ca/wp/calendar/new-years-eve/
CATEGORIES:Gym Closures
END:VEVENT
BEGIN:VEVENT
DTSTART;VALUE=DATE:20251226
DTEND;VALUE=DATE:20251227
DTSTAMP:20260423T175240
CREATED:20251218T185341Z
LAST-MODIFIED:20251218T191140Z
UID:6532-1766707200-1766793599@terracepeaks.ca
SUMMARY:Boxing Day - Gym Closed
DESCRIPTION:The office is closed\, and no programs are running.
URL:https://terracepeaks.ca/wp/calendar/boxing-day/
CATEGORIES:Gym Closures
END:VEVENT
BEGIN:VEVENT
DTSTART;VALUE=DATE:20251225
DTEND;VALUE=DATE:20251226
DTSTAMP:20260423T175240
CREATED:20251218T185303Z
LAST-MODIFIED:20251218T191135Z
UID:6530-1766620800-1766707199@terracepeaks.ca
SUMMARY:Christmas Day - Gym Closed
DESCRIPTION:The office is closed\, and no programs are running.
URL:https://terracepeaks.ca/wp/calendar/christmas-day/
CATEGORIES:Gym Closures
END:VEVENT
BEGIN:VEVENT
DTSTART;VALUE=DATE:20251224
DTEND;VALUE=DATE:20251225
DTSTAMP:20260423T175240
CREATED:20251218T185240Z
LAST-MODIFIED:20251218T191146Z
UID:6528-1766534400-1766620799@terracepeaks.ca
SUMMARY:Christmas Eve - Gym Closed
DESCRIPTION:The office is closed\, and no programs are running.
URL:https://terracepeaks.ca/wp/calendar/christmas-eve/
CATEGORIES:Gym Closures
END:VEVENT
BEGIN:VEVENT
DTSTART;VALUE=DATE:20251111
DTEND;VALUE=DATE:20251112
DTSTAMP:20260423T175240
CREATED:20250808T184203Z
LAST-MODIFIED:20250828T200353Z
UID:6058-1762819200-1762905599@terracepeaks.ca
SUMMARY:Remembrance Day – Gym Closed
DESCRIPTION:The office is closed\, and no programs are running.
URL:https://terracepeaks.ca/wp/calendar/remembrance-day-gym-closed-2/
LOCATION:Terrace Peaks Gymnastics Club\, #2 - 3091 Century Street\, Terrace\, BC\, V8G 0L6\, Canada
CATEGORIES:Gym Closures
END:VEVENT
BEGIN:VEVENT
DTSTART;TZID=America/Vancouver:20251031T150000
DTEND;TZID=America/Vancouver:20251031T200000
DTSTAMP:20260423T175240
CREATED:20250808T183957Z
LAST-MODIFIED:20250808T183957Z
UID:6056-1761922800-1761940800@terracepeaks.ca
SUMMARY:Halloween – No programs after 3pm
DESCRIPTION:The office is closed\, and no programs are scheduled after 3 pm
URL:https://terracepeaks.ca/wp/calendar/halloween-no-programs-after-3pm-2/
CATEGORIES:Gym Closures
END:VEVENT
BEGIN:VEVENT
DTSTART;VALUE=DATE:20251013
DTEND;VALUE=DATE:20251014
DTSTAMP:20260423T175240
CREATED:20250808T183439Z
LAST-MODIFIED:20250808T184533Z
UID:6050-1760313600-1760399999@terracepeaks.ca
SUMMARY:Thanksgiving Day - Gym Closed
DESCRIPTION:The office is closed and no programs are scheduled.
URL:https://terracepeaks.ca/wp/calendar/thanksgiving-day/
CATEGORIES:Gym Closures
END:VEVENT
BEGIN:VEVENT
DTSTART;VALUE=DATE:20250930
DTEND;VALUE=DATE:20251001
DTSTAMP:20260423T175240
CREATED:20250808T183359Z
LAST-MODIFIED:20250808T184544Z
UID:6048-1759190400-1759276799@terracepeaks.ca
SUMMARY:National Day for Truth & Reconciliation - Gym Closed
DESCRIPTION:The office is closed and no programs are scheduled.
URL:https://terracepeaks.ca/wp/calendar/national-day-for-truth-reconciliation/
CATEGORIES:Gym Closures
END:VEVENT
BEGIN:VEVENT
DTSTART;VALUE=DATE:20250919
DTEND;VALUE=DATE:20250920
DTSTAMP:20260423T175240
CREATED:20250808T182335Z
LAST-MODIFIED:20250808T184554Z
UID:6038-1758240000-1758326399@terracepeaks.ca
SUMMARY:GymBC ProD Day - Gym Closed
DESCRIPTION:The office is closed and no programs are running.
URL:https://terracepeaks.ca/wp/calendar/gymbc-prod-day-gym-closed/
CATEGORIES:Gym Closures
END:VEVENT
BEGIN:VEVENT
DTSTART;VALUE=DATE:20250901
DTEND;VALUE=DATE:20250902
DTSTAMP:20260423T175240
CREATED:20250808T182443Z
LAST-MODIFIED:20250827T162405Z
UID:6041-1756684800-1756771199@terracepeaks.ca
SUMMARY:Labour Day - Gym Closed
DESCRIPTION:The office is closed\, and no programs are running.
URL:https://terracepeaks.ca/wp/calendar/labour-day/
LOCATION:Terrace Peaks Gymnastics Club\, #2 - 3091 Century Street\, Terrace\, BC\, V8G 0L6\, Canada
CATEGORIES:Gym Closures
END:VEVENT
BEGIN:VEVENT
DTSTART;VALUE=DATE:20250804
DTEND;VALUE=DATE:20250805
DTSTAMP:20260423T175240
CREATED:20250425T190208Z
LAST-MODIFIED:20250425T190208Z
UID:5883-1754265600-1754351999@terracepeaks.ca
SUMMARY:BC Day – Gym Closed
DESCRIPTION:The office is closed\, and no programs are running.
URL:https://terracepeaks.ca/wp/calendar/bc-day-gym-closed-2/
CATEGORIES:Gym Closures
END:VEVENT
BEGIN:VEVENT
DTSTART;VALUE=DATE:20250701
DTEND;VALUE=DATE:20250702
DTSTAMP:20260423T175240
CREATED:20250425T185900Z
LAST-MODIFIED:20250828T200445Z
UID:5877-1751328000-1751414399@terracepeaks.ca
SUMMARY:Canada Day - Gym Closed
DESCRIPTION:The office is closed\, and no programs are running.
URL:https://terracepeaks.ca/wp/calendar/canada-day-gym-closed/
LOCATION:Terrace Peaks Gymnastics Club\, #2 - 3091 Century Street\, Terrace\, BC\, V8G 0L6\, Canada
CATEGORIES:Gym Closures
END:VEVENT
BEGIN:VEVENT
DTSTART;VALUE=DATE:20250519
DTEND;VALUE=DATE:20250520
DTSTAMP:20260423T175240
CREATED:20250425T183138Z
LAST-MODIFIED:20250425T183138Z
UID:5862-1747612800-1747699199@terracepeaks.ca
SUMMARY:Victoria Day - Gym Closed
DESCRIPTION:The office is closed and no programs are running.
URL:https://terracepeaks.ca/wp/calendar/victoria-day-gym-closed/
CATEGORIES:Gym Closures
END:VEVENT
END:VCALENDAR