BEGIN:VCALENDAR
VERSION:2.0
PRODID:-//Terrace Peaks Gymnastics Club - ECPv6.15.20//NONSGML v1.0//EN
CALSCALE:GREGORIAN
METHOD:PUBLISH
X-WR-CALNAME:Terrace Peaks Gymnastics Club
X-ORIGINAL-URL:https://terracepeaks.ca/wp
X-WR-CALDESC:Events for Terrace Peaks Gymnastics Club
REFRESH-INTERVAL;VALUE=DURATION:PT1H
X-Robots-Tag:noindex
X-PUBLISHED-TTL:PT1H
BEGIN:VTIMEZONE
TZID:America/Vancouver
BEGIN:DAYLIGHT
TZOFFSETFROM:-0800
TZOFFSETTO:-0700
TZNAME:PDT
DTSTART:20240310T100000
END:DAYLIGHT
BEGIN:STANDARD
TZOFFSETFROM:-0700
TZOFFSETTO:-0800
TZNAME:PST
DTSTART:20241103T090000
END:STANDARD
BEGIN:DAYLIGHT
TZOFFSETFROM:-0800
TZOFFSETTO:-0700
TZNAME:PDT
DTSTART:20250309T100000
END:DAYLIGHT
BEGIN:STANDARD
TZOFFSETFROM:-0700
TZOFFSETTO:-0800
TZNAME:PST
DTSTART:20251102T090000
END:STANDARD
BEGIN:DAYLIGHT
TZOFFSETFROM:-0800
TZOFFSETTO:-0700
TZNAME:PDT
DTSTART:20260308T100000
END:DAYLIGHT
BEGIN:STANDARD
TZOFFSETFROM:-0700
TZOFFSETTO:-0800
TZNAME:PST
DTSTART:20261101T090000
END:STANDARD
END:VTIMEZONE
BEGIN:VEVENT
DTSTART;VALUE=DATE:20251231
DTEND;VALUE=DATE:20260101
DTSTAMP:20260423T162401
CREATED:20251218T185414Z
LAST-MODIFIED:20251218T191130Z
UID:6534-1767139200-1767225599@terracepeaks.ca
SUMMARY:New Year's Eve - Gym Closed
DESCRIPTION:The office is closed\, and no programs are running.
URL:https://terracepeaks.ca/wp/calendar/new-years-eve/
CATEGORIES:Gym Closures
END:VEVENT
BEGIN:VEVENT
DTSTART;VALUE=DATE:20251229
DTEND;VALUE=DATE:20251231
DTSTAMP:20260423T162401
CREATED:20251218T185046Z
LAST-MODIFIED:20251218T185046Z
UID:6526-1766966400-1767139199@terracepeaks.ca
SUMMARY:Winter Camps
DESCRIPTION:Join us in the gym for some winter fun at our Hot Chocolate & Pajama Party Gymnastics Camps
URL:https://terracepeaks.ca/wp/calendar/winter-camps-2/
CATEGORIES:Club Events
END:VEVENT
BEGIN:VEVENT
DTSTART;VALUE=DATE:20251226
DTEND;VALUE=DATE:20251227
DTSTAMP:20260423T162401
CREATED:20251218T185341Z
LAST-MODIFIED:20251218T191140Z
UID:6532-1766707200-1766793599@terracepeaks.ca
SUMMARY:Boxing Day - Gym Closed
DESCRIPTION:The office is closed\, and no programs are running.
URL:https://terracepeaks.ca/wp/calendar/boxing-day/
CATEGORIES:Gym Closures
END:VEVENT
BEGIN:VEVENT
DTSTART;VALUE=DATE:20251225
DTEND;VALUE=DATE:20251226
DTSTAMP:20260423T162401
CREATED:20251218T185303Z
LAST-MODIFIED:20251218T191135Z
UID:6530-1766620800-1766707199@terracepeaks.ca
SUMMARY:Christmas Day - Gym Closed
DESCRIPTION:The office is closed\, and no programs are running.
URL:https://terracepeaks.ca/wp/calendar/christmas-day/
CATEGORIES:Gym Closures
END:VEVENT
BEGIN:VEVENT
DTSTART;VALUE=DATE:20251224
DTEND;VALUE=DATE:20251225
DTSTAMP:20260423T162401
CREATED:20251218T185240Z
LAST-MODIFIED:20251218T191146Z
UID:6528-1766534400-1766620799@terracepeaks.ca
SUMMARY:Christmas Eve - Gym Closed
DESCRIPTION:The office is closed\, and no programs are running.
URL:https://terracepeaks.ca/wp/calendar/christmas-eve/
CATEGORIES:Gym Closures
END:VEVENT
BEGIN:VEVENT
DTSTART;VALUE=DATE:20251222
DTEND;VALUE=DATE:20251224
DTSTAMP:20260423T162401
CREATED:20251218T184907Z
LAST-MODIFIED:20251218T185119Z
UID:6522-1766361600-1766534399@terracepeaks.ca
SUMMARY:Winter Camps
DESCRIPTION:Join us in the gym for some winter fun at our Hot Chocolate & Pajama Party Gymnastics Camps
URL:https://terracepeaks.ca/wp/calendar/winter-camps/
CATEGORIES:Club Events
END:VEVENT
BEGIN:VEVENT
DTSTART;VALUE=DATE:20251220
DTEND;VALUE=DATE:20251221
DTSTAMP:20260423T162401
CREATED:20250808T184423Z
LAST-MODIFIED:20251219T201045Z
UID:6062-1766188800-1766275199@terracepeaks.ca
SUMMARY:Fall 2025 Session Ends
DESCRIPTION:Last day of Fall 2025 classes and drop-ins.
URL:https://terracepeaks.ca/wp/calendar/fall-2025-session-ends/
LOCATION:Terrace Peaks Gymnastics Club\, #2 - 3091 Century Street\, Terrace\, BC\, V8G 0L6\, Canada
CATEGORIES:Program Events
END:VEVENT
BEGIN:VEVENT
DTSTART;VALUE=DATE:20251219
DTEND;VALUE=DATE:20251220
DTSTAMP:20260423T162401
CREATED:20251202T171004Z
LAST-MODIFIED:20251218T185136Z
UID:6445-1766102400-1766188799@terracepeaks.ca
SUMMARY:Support the Food Bank!
DESCRIPTION:As the holiday season approaches\, Terrace Peaks is collecting non-perishable food items to donate to the Terrace Food Bank. Please drop off your donations in the box at the gym by Friday\, December 19.
URL:https://terracepeaks.ca/wp/calendar/support-the-food-bank/
CATEGORIES:Club Events
END:VEVENT
BEGIN:VEVENT
DTSTART;VALUE=DATE:20251215
DTEND;VALUE=DATE:20251221
DTSTAMP:20260423T162401
CREATED:20251202T191218Z
LAST-MODIFIED:20251218T185143Z
UID:6447-1765756800-1766275199@terracepeaks.ca
SUMMARY:Parent Viewing Day & Last Week of Fall 2025
DESCRIPTION:We would like to welcome parents and guardians onto the floor to help celebrate the end of our Fall 2025 session with our rec athletes! During the last 5-10 minutes of your child’s last class (December 15-20)\, please join us for an opportunity to see what your child has learned this session. \n 
URL:https://terracepeaks.ca/wp/calendar/parent-viewing-day-last-week-of-fall-2025/
CATEGORIES:Program Events
END:VEVENT
BEGIN:VEVENT
DTSTART;TZID=America/Vancouver:20251214T100000
DTEND;TZID=America/Vancouver:20251214T160000
DTSTAMP:20260423T162401
CREATED:20250808T184348Z
LAST-MODIFIED:20250828T200325Z
UID:6060-1765706400-1765728000@terracepeaks.ca
SUMMARY:Gym Maintenance
DESCRIPTION:Gym Maintenance
URL:https://terracepeaks.ca/wp/calendar/gym-maintenance-3/
LOCATION:Terrace Peaks Gymnastics Club\, #2 - 3091 Century Street\, Terrace\, BC\, V8G 0L6\, Canada
CATEGORIES:Club Events
END:VEVENT
BEGIN:VEVENT
DTSTART;VALUE=DATE:20251130
DTEND;VALUE=DATE:20251201
DTSTAMP:20260423T162401
CREATED:20251103T221312Z
LAST-MODIFIED:20251103T221312Z
UID:6399-1764460800-1764547199@terracepeaks.ca
SUMMARY:TPGC Swag Fundraiser Order Deadline
DESCRIPTION:Click here to order
URL:https://terracepeaks.ca/wp/calendar/tpgc-swag-fundraiser-order-deadline/
CATEGORIES:Club Events
END:VEVENT
BEGIN:VEVENT
DTSTART;TZID=America/Vancouver:20251128T090000
DTEND;TZID=America/Vancouver:20251128T160000
DTSTAMP:20260423T162401
CREATED:20251003T193031Z
LAST-MODIFIED:20251003T195439Z
UID:6353-1764320400-1764345600@terracepeaks.ca
SUMMARY:ProD Day - Pajama Day
DESCRIPTION:
URL:https://terracepeaks.ca/wp/calendar/prod-day-pajama-day/
CATEGORIES:Club Events
END:VEVENT
BEGIN:VEVENT
DTSTART;TZID=America/Vancouver:20251121T180000
DTEND;TZID=America/Vancouver:20251122T010000
DTSTAMP:20260423T162401
CREATED:20251003T193333Z
LAST-MODIFIED:20251003T193333Z
UID:6357-1763748000-1763773200@terracepeaks.ca
SUMMARY:Small Business Christmas Party Fundraiser
DESCRIPTION:Small Business Christmas Party
URL:https://terracepeaks.ca/wp/calendar/small-business-christmas-party-fundraiser/
CATEGORIES:Club Events
END:VEVENT
BEGIN:VEVENT
DTSTART;VALUE=DATE:20251116
DTEND;VALUE=DATE:20251117
DTSTAMP:20260423T162401
CREATED:20251002T200130Z
LAST-MODIFIED:20251218T185153Z
UID:6339-1763251200-1763337599@terracepeaks.ca
SUMMARY:Purdy's Christmas Fundraiser Order Deadline
DESCRIPTION:Click here to order
URL:https://terracepeaks.ca/wp/calendar/purdys-christmas-fundraiser-order-deadline/
CATEGORIES:Club Events
END:VEVENT
BEGIN:VEVENT
DTSTART;VALUE=DATE:20251115
DTEND;VALUE=DATE:20251116
DTSTAMP:20260423T162401
CREATED:20251003T194344Z
LAST-MODIFIED:20251003T194344Z
UID:6361-1763164800-1763251199@terracepeaks.ca
SUMMARY:Winter 2026 Registration Opens
DESCRIPTION:
URL:https://terracepeaks.ca/wp/calendar/winter-2026-registration-opens/
CATEGORIES:Program Events
END:VEVENT
BEGIN:VEVENT
DTSTART;VALUE=DATE:20251111
DTEND;VALUE=DATE:20251112
DTSTAMP:20260423T162401
CREATED:20250808T184203Z
LAST-MODIFIED:20250828T200353Z
UID:6058-1762819200-1762905599@terracepeaks.ca
SUMMARY:Remembrance Day – Gym Closed
DESCRIPTION:The office is closed\, and no programs are running.
URL:https://terracepeaks.ca/wp/calendar/remembrance-day-gym-closed-2/
LOCATION:Terrace Peaks Gymnastics Club\, #2 - 3091 Century Street\, Terrace\, BC\, V8G 0L6\, Canada
CATEGORIES:Gym Closures
END:VEVENT
BEGIN:VEVENT
DTSTART;VALUE=DATE:20251102
DTEND;VALUE=DATE:20251103
DTSTAMP:20260423T162401
CREATED:20251002T200011Z
LAST-MODIFIED:20251002T200011Z
UID:6337-1762041600-1762127999@terracepeaks.ca
SUMMARY:Mitchell's Soup Co. Fundraiser Order Deadline
DESCRIPTION:Click here to order.
URL:https://terracepeaks.ca/wp/calendar/mitchells-soup-co-fundraiser-order-deadline/
CATEGORIES:Club Events
END:VEVENT
BEGIN:VEVENT
DTSTART;TZID=America/Vancouver:20251031T150000
DTEND;TZID=America/Vancouver:20251031T200000
DTSTAMP:20260423T162401
CREATED:20250808T183957Z
LAST-MODIFIED:20250808T183957Z
UID:6056-1761922800-1761940800@terracepeaks.ca
SUMMARY:Halloween – No programs after 3pm
DESCRIPTION:The office is closed\, and no programs are scheduled after 3 pm
URL:https://terracepeaks.ca/wp/calendar/halloween-no-programs-after-3pm-2/
CATEGORIES:Gym Closures
END:VEVENT
BEGIN:VEVENT
DTSTART;TZID=America/Vancouver:20251026T100000
DTEND;TZID=America/Vancouver:20251026T150000
DTSTAMP:20260423T162401
CREATED:20251003T184724Z
LAST-MODIFIED:20251218T185201Z
UID:6346-1761472800-1761490800@terracepeaks.ca
SUMMARY:Annual Halloween Party
DESCRIPTION:Join us in the gym for some fun at our Annual Halloween Party \n10:00 am – 12:00 pm for kids 8 & under \n1:00 pm – 3:00 pm for kids 6 & up \nAnnual Halloween Party
URL:https://terracepeaks.ca/wp/calendar/annual-halloween-party/
CATEGORIES:Club Events
END:VEVENT
BEGIN:VEVENT
DTSTART;VALUE=DATE:20251025
DTEND;VALUE=DATE:20251026
DTSTAMP:20260423T162401
CREATED:20250808T183833Z
LAST-MODIFIED:20250828T200421Z
UID:6054-1761350400-1761436799@terracepeaks.ca
SUMMARY:Last day to register for Fall 2025 Classes
DESCRIPTION:Registration for Drop-in programs is still open
URL:https://terracepeaks.ca/wp/calendar/last-day-to-register-for-fall-2025-classes/
LOCATION:Terrace Peaks Gymnastics Club\, #2 - 3091 Century Street\, Terrace\, BC\, V8G 0L6\, Canada
CATEGORIES:Program Events
END:VEVENT
BEGIN:VEVENT
DTSTART;TZID=America/Vancouver:20251024T090000
DTEND;TZID=America/Vancouver:20251024T160000
DTSTAMP:20260423T162401
CREATED:20251003T191848Z
LAST-MODIFIED:20251003T192018Z
UID:6349-1761296400-1761321600@terracepeaks.ca
SUMMARY:ProD Day Camp - Halloween
DESCRIPTION:
URL:https://terracepeaks.ca/wp/calendar/prod-day-camp-halloween/
CATEGORIES:Club Events
END:VEVENT
BEGIN:VEVENT
DTSTART;VALUE=DATE:20251024
DTEND;VALUE=DATE:20251101
DTSTAMP:20260423T162401
CREATED:20250808T183641Z
LAST-MODIFIED:20250808T183641Z
UID:6052-1761264000-1761955199@terracepeaks.ca
SUMMARY:Halloween Week
DESCRIPTION:Wear your Halloween costume to gymnastics! \nPlease ensure your costume is comfortable and remember to wear something underneath\, just in case you need to remove it. \nNo programs are scheduled on Friday\, October 31\, after 3:00 pm.
URL:https://terracepeaks.ca/wp/calendar/halloween-week-2/
CATEGORIES:Program Events
END:VEVENT
BEGIN:VEVENT
DTSTART;VALUE=DATE:20251013
DTEND;VALUE=DATE:20251014
DTSTAMP:20260423T162401
CREATED:20250808T183439Z
LAST-MODIFIED:20250808T184533Z
UID:6050-1760313600-1760399999@terracepeaks.ca
SUMMARY:Thanksgiving Day - Gym Closed
DESCRIPTION:The office is closed and no programs are scheduled.
URL:https://terracepeaks.ca/wp/calendar/thanksgiving-day/
CATEGORIES:Gym Closures
END:VEVENT
BEGIN:VEVENT
DTSTART;VALUE=DATE:20250930
DTEND;VALUE=DATE:20251001
DTSTAMP:20260423T162401
CREATED:20250808T183359Z
LAST-MODIFIED:20250808T184544Z
UID:6048-1759190400-1759276799@terracepeaks.ca
SUMMARY:National Day for Truth & Reconciliation - Gym Closed
DESCRIPTION:The office is closed and no programs are scheduled.
URL:https://terracepeaks.ca/wp/calendar/national-day-for-truth-reconciliation/
CATEGORIES:Gym Closures
END:VEVENT
BEGIN:VEVENT
DTSTART;TZID=America/Vancouver:20250926T090000
DTEND;TZID=America/Vancouver:20250926T160000
DTSTAMP:20260423T162401
CREATED:20250922T180200Z
LAST-MODIFIED:20251003T191551Z
UID:6232-1758877200-1758902400@terracepeaks.ca
SUMMARY:ProD Day Camp - Race to Space
DESCRIPTION:
URL:https://terracepeaks.ca/wp/calendar/prod-day-camp-2/
CATEGORIES:Program Events
END:VEVENT
BEGIN:VEVENT
DTSTART;TZID=America/Vancouver:20250923T190000
DTEND;TZID=America/Vancouver:20250923T200000
DTSTAMP:20260423T162401
CREATED:20250808T183325Z
LAST-MODIFIED:20250808T183325Z
UID:6046-1758654000-1758657600@terracepeaks.ca
SUMMARY:AGM
DESCRIPTION:Annual General Meeting
URL:https://terracepeaks.ca/wp/calendar/agm-2/
CATEGORIES:Club Events
END:VEVENT
BEGIN:VEVENT
DTSTART;VALUE=DATE:20250919
DTEND;VALUE=DATE:20250920
DTSTAMP:20260423T162401
CREATED:20250808T182335Z
LAST-MODIFIED:20250808T184554Z
UID:6038-1758240000-1758326399@terracepeaks.ca
SUMMARY:GymBC ProD Day - Gym Closed
DESCRIPTION:The office is closed and no programs are running.
URL:https://terracepeaks.ca/wp/calendar/gymbc-prod-day-gym-closed/
CATEGORIES:Gym Closures
END:VEVENT
BEGIN:VEVENT
DTSTART;VALUE=DATE:20250916
DTEND;VALUE=DATE:20250917
DTSTAMP:20260423T162401
CREATED:20250808T182137Z
LAST-MODIFIED:20250915T213628Z
UID:6035-1757980800-1758067199@terracepeaks.ca
SUMMARY:Good Fuel Day
DESCRIPTION:Join us on September 16 at the Terrace Co-Op Gas Bar on Lakelse Avenue. Ten cents of every litre from all fuel purchases\, plus all Co-op Coffee and Big Cool Slush sales\, will be donated to Terrace Peaks to support school field trips. Our Invitational team will also be there in the afternoon from 4 pm to 8 pm\, hosting a BBQ and bake sale to raise money for new team uniforms. \nInterested in volunteering? Sign up today!
URL:https://terracepeaks.ca/wp/calendar/good-fuel-day/
LOCATION:Co-op Gas Bar\, 4760 Lakelse Ave\, Terrace\, BC\, V8G 1R6\, Canada
CATEGORIES:Club Events
END:VEVENT
BEGIN:VEVENT
DTSTART;VALUE=DATE:20250915
DTEND;VALUE=DATE:20250922
DTSTAMP:20260423T162401
CREATED:20250808T183213Z
LAST-MODIFIED:20250808T183213Z
UID:6043-1757894400-1758499199@terracepeaks.ca
SUMMARY:National Coaches Week
DESCRIPTION:September 15 – 21\, 2025\, marks the 11th annual National Coaches Week\, and we’re asking everyone across Canada for your help celebrating! \nWhether you’re from a National Sport Organization\, Provincial/Territorial Sport Organization\, University\, club\, or if you’re a coach\, parent\, or athlete\, we want your help saying #ThanksCoach to coaches across the country. \nCOACHES: Share your story via video\nATHLETES: Say #ThanksCoach via video\nNational Coaches Week is a time to celebrate the tremendous positive impact coaches have on athletes and communities across Canada. This annual campaign is an opportunity to recognize coaches for the integral role they play\, and to take time to say #ThanksCoach! With virtual activities held across the country to celebrate coaching\, National Coaches Week provides coaches with the recognition they deserve for the time they devote to ensuring Canadians live an active\, healthy lifestyle. \n\nStay up to date with everything happening leading up to National Coaches Week by visiting www.coach.ca/nationalcoachesweek and by following along on social media using #CoachesWeek and #ThanksCoach.
URL:https://terracepeaks.ca/wp/calendar/national-coaches-week-2/
CATEGORIES:Club Events
END:VEVENT
BEGIN:VEVENT
DTSTART;VALUE=DATE:20250908
DTEND;VALUE=DATE:20250909
DTSTAMP:20260423T162401
CREATED:20250808T181713Z
LAST-MODIFIED:20250808T181725Z
UID:6033-1757289600-1757375999@terracepeaks.ca
SUMMARY:Fall 2025 Session & 2025-26 Training Begins
DESCRIPTION:Register for programs via Uplifter.
URL:https://terracepeaks.ca/wp/calendar/fall-2025-session-2025-26-training-begins/
CATEGORIES:Program Events
END:VEVENT
END:VCALENDAR