BEGIN:VCALENDAR
VERSION:2.0
PRODID:-//Terrace Peaks Gymnastics Club - ECPv6.15.20//NONSGML v1.0//EN
CALSCALE:GREGORIAN
METHOD:PUBLISH
X-ORIGINAL-URL:https://terracepeaks.ca/wp
X-WR-CALDESC:Events for Terrace Peaks Gymnastics Club
REFRESH-INTERVAL;VALUE=DURATION:PT1H
X-Robots-Tag:noindex
X-PUBLISHED-TTL:PT1H
BEGIN:VTIMEZONE
TZID:America/Vancouver
BEGIN:DAYLIGHT
TZOFFSETFROM:-0800
TZOFFSETTO:-0700
TZNAME:PDT
DTSTART:20240310T100000
END:DAYLIGHT
BEGIN:STANDARD
TZOFFSETFROM:-0700
TZOFFSETTO:-0800
TZNAME:PST
DTSTART:20241103T090000
END:STANDARD
BEGIN:DAYLIGHT
TZOFFSETFROM:-0800
TZOFFSETTO:-0700
TZNAME:PDT
DTSTART:20250309T100000
END:DAYLIGHT
BEGIN:STANDARD
TZOFFSETFROM:-0700
TZOFFSETTO:-0800
TZNAME:PST
DTSTART:20251102T090000
END:STANDARD
BEGIN:DAYLIGHT
TZOFFSETFROM:-0800
TZOFFSETTO:-0700
TZNAME:PDT
DTSTART:20260308T100000
END:DAYLIGHT
BEGIN:STANDARD
TZOFFSETFROM:-0700
TZOFFSETTO:-0800
TZNAME:PST
DTSTART:20261101T090000
END:STANDARD
END:VTIMEZONE
BEGIN:VEVENT
DTSTART;VALUE=DATE:20250701
DTEND;VALUE=DATE:20250702
DTSTAMP:20260423T230323
CREATED:20250425T185900Z
LAST-MODIFIED:20250828T200445Z
UID:5877-1751328000-1751414399@terracepeaks.ca
SUMMARY:Canada Day - Gym Closed
DESCRIPTION:The office is closed\, and no programs are running.
URL:https://terracepeaks.ca/wp/calendar/canada-day-gym-closed/
LOCATION:Terrace Peaks Gymnastics Club\, #2 - 3091 Century Street\, Terrace\, BC\, V8G 0L6\, Canada
CATEGORIES:Gym Closures
END:VEVENT
BEGIN:VEVENT
DTSTART;VALUE=DATE:20250707
DTEND;VALUE=DATE:20250708
DTSTAMP:20260423T230323
CREATED:20250425T190009Z
LAST-MODIFIED:20250425T190009Z
UID:5879-1751846400-1751932799@terracepeaks.ca
SUMMARY:Summer 2025 Camps Start
DESCRIPTION:Registration Link
URL:https://terracepeaks.ca/wp/calendar/summer-2025-camps-start/
CATEGORIES:Program Events
END:VEVENT
END:VCALENDAR